BEGIN:VCALENDAR
VERSION:2.0
PRODID:www.jamk.fi
BEGIN:VEVENT
UID:69e50e9336095
DTSTART:20260421T060000Z
SEQUENCE:0
TRANSP:OPAQUE
DTEND:20260421T073000Z
LOCATION:Rajakatu 35\, 40200\, Jyväskylä
SUMMARY:Yritykset ja biodiversiteetti - Tourujoen kunnostushanke ja yrityst
 en alkukartoitusten tulokset | Jamk
CLASS:PUBLIC
DESCRIPTION:Yritysten menestys on vahvasti sidoksissa monimuotoiseen luonto
 on ja toimiviin ekosysteemeihin. Jamkin opiskelijat ovat yritysten tukena 
 matkalla kohti kestävämpää tulevaisuutta: ensimmäiset alkukartoitukse
 t yritysten luontovaikutuksista esittelyssä!
DTSTAMP:20260419T171915Z
END:VEVENT
END:VCALENDAR