BEGIN:VCALENDAR
VERSION:2.0
PRODID:www.jamk.fi
BEGIN:VEVENT
UID:69e53140b7452
DTSTART:20260428T060000Z
SEQUENCE:0
TRANSP:OPAQUE
DTEND:20260428T080000Z
LOCATION:Patruunantie 1\, 41330\, Vihtavuori
SUMMARY:Senioridigi-projekti Laukaan Vihtavuoressa | Jamk
CLASS:PUBLIC
DESCRIPTION:Tule tutustumaan erilaisiin kotona asumista ja omatoimista arke
 a tukeviin teknologisiin ratkaisuihin Laukaan Vihtavuoren seurakuntatuvall
 e. Senioridigi-projektin asiantuntijat jalkautuvat ikääntyville suunnatt
 uun tapahtumaan mukanaan laitelaukku.
DTSTAMP:20260419T194712Z
END:VEVENT
END:VCALENDAR