BEGIN:VCALENDAR
VERSION:2.0
PRODID:www.jamk.fi
BEGIN:VEVENT
UID:69e50d7727982
DTSTART:20260424T070000Z
SEQUENCE:0
TRANSP:OPAQUE
DTEND:20260424T080000Z
LOCATION:\, \, 
SUMMARY:Senioridigi-projekti Jyväskylässä | Jamk
CLASS:PUBLIC
DESCRIPTION:Senioridigi esittäytyy Eläkeliiton Keski-Suomen piirin järje
 stöpäivässä. Projektin asiantuntijat jalkautuvat tapahtumaan mukanaan 
 laitelaukku täynnä erilaisia teknologioita. 
DTSTAMP:20260419T171431Z
END:VEVENT
END:VCALENDAR