BEGIN:VCALENDAR
VERSION:2.0
PRODID:www.jamk.fi
BEGIN:VEVENT
UID:69e50e329c99b
DTSTART:20260423T100000Z
SEQUENCE:0
TRANSP:OPAQUE
DTEND:20260423T120000Z
LOCATION:Muhosentie 8\, 43500\, Karstula
SUMMARY:Senioridigi-projekti Karstulassa  | Jamk
CLASS:PUBLIC
DESCRIPTION:Tule tutustumaan erilaisiin kotona asumista ja omatoimista arke
 a tukeviin teknologisiin ratkaisuihin Karstulaan\, seniorien kuukausitapaa
 miseen. Senioridigi-projektin asiantuntijat jalkautuvat tapahtumaan laitel
 aukkujen kera. 
DTSTAMP:20260419T171738Z
END:VEVENT
END:VCALENDAR