BEGIN:VCALENDAR
VERSION:2.0
PRODID:www.jamk.fi
BEGIN:VEVENT
UID:69e50d01a6d8f
DTSTART:20260422T070000Z
SEQUENCE:0
TRANSP:OPAQUE
DTEND:20260422T110000Z
LOCATION:Urheilutie 9\, 44500\, Viitasaari
SUMMARY:Senioridigi-projekti Viitasaarella | Jamk
CLASS:PUBLIC
DESCRIPTION:Tule tutustumaan erilaisiin kotona asumista ja omatoimista arke
 a tukeviin teknologisiin ratkaisuihin Viitasaaren Seniorimessuille. Senior
 idigi-projektin asiantuntijat jalkautuvat tapahtumaan laitelaukkujen kera.
  
DTSTAMP:20260419T171233Z
END:VEVENT
END:VCALENDAR