BEGIN:VCALENDAR
VERSION:2.0
PRODID:www.jamk.fi
BEGIN:VEVENT
UID:69e7450ac8a31
DTSTART:20260423T053000Z
SEQUENCE:0
TRANSP:OPAQUE
DTEND:20260423T063000Z
LOCATION:\, \, 
SUMMARY:Monimuotoisuudella menestykseen: Onko teidän firmalla latu auki\, 
 kun lähdetään uuteen nousuun? | Jamk
CLASS:PUBLIC
DESCRIPTION:23.4. Miksi suhdannäkymistä huolimatta kannattaa kehittää t
 yöyhteisön kansainvälisen monimuotoisuuden valmiuksia?
DTSTAMP:20260421T093610Z
END:VEVENT
END:VCALENDAR