BEGIN:VCALENDAR
VERSION:2.0
PRODID:www.jamk.fi
BEGIN:VEVENT
UID:69ea0772e4323
DTSTART:20260313T110000Z
SEQUENCE:0
TRANSP:OPAQUE
DTEND:20260313T114500Z
LOCATION:\, \, 
SUMMARY:Nettikirjasto Ernestin julkaisutilaisuus  | Jamk
CLASS:PUBLIC
DESCRIPTION:Erityisen tuen ja inklusiivisen ammatillisen koulutuksen hyviä
  käytäntöjä ja välineitä kokoava Ernesti-sivusto on avattu. Esittely
 n tallenne on katsottavissa 14.4.2026 saakka.   
DTSTAMP:20260423T115010Z
END:VEVENT
END:VCALENDAR