BEGIN:VCALENDAR
VERSION:2.0
PRODID:www.jamk.fi
BEGIN:VEVENT
UID:69e94cad8de4b
DTSTART:20260611T030000Z
SEQUENCE:0
TRANSP:OPAQUE
DTEND:20260611T180000Z
LOCATION: Kiinamyllynkatu 10\, 20520\, Turku 
SUMMARY:FinFoodNet – yrittäjien opintomatka Turun seudulle 11.-12.6.2026
   | Jamk
CLASS:PUBLIC
DESCRIPTION:Tervetuloa yrittäjien opintomatkalle\, jossa kansainvälisille
  markkinoille tähtäävät elintarvikeyritykset kohtaavat Turun seudulla.
  Tapahtuma on avoin kaikille kansainväliseen kasvuun tähtääville elint
 arvikeyrityksille. 
DTSTAMP:20260422T223317Z
END:VEVENT
BEGIN:VEVENT
UID:69e94cad8de9a
DTSTART:20260612T030000Z
SEQUENCE:0
TRANSP:OPAQUE
DTEND:20260612T180000Z
LOCATION: Kiinamyllynkatu 10\, 20520\, Turku 
SUMMARY:FinFoodNet – yrittäjien opintomatka Turun seudulle 11.-12.6.2026
   | Jamk
CLASS:PUBLIC
DESCRIPTION:Tervetuloa yrittäjien opintomatkalle\, jossa kansainvälisille
  markkinoille tähtäävät elintarvikeyritykset kohtaavat Turun seudulla.
  Tapahtuma on avoin kaikille kansainväliseen kasvuun tähtääville elint
 arvikeyrityksille. 
DTSTAMP:20260422T223317Z
END:VEVENT
END:VCALENDAR