BEGIN:VCALENDAR
VERSION:2.0
PRODID:www.jamk.fi
BEGIN:VEVENT
UID:69e4da730497e
DTSTART:20260416T120000Z
SEQUENCE:0
TRANSP:OPAQUE
DTEND:20260416T130000Z
LOCATION:\, \, 
SUMMARY:Webinaari: Mikä on laatua erityisessä tuessa? Miten sitä arvioid
 aan? | Jamk
CLASS:PUBLIC
DESCRIPTION:Erityisen tuen laadun arviointi perustuu tavoitteelliseen suunn
 itteluun\, yksilöllisiin tarpeisiin vastaamiseen ja jatkuvaan arviointiin
 \, jotta jokaiselle opiskelijalle voidaan taata yhdenvertaiset mahdollisuu
 det oppia ja kehittyä. 
DTSTAMP:20260419T133651Z
END:VEVENT
END:VCALENDAR