BEGIN:VCALENDAR
VERSION:2.0
PRODID:www.jamk.fi
BEGIN:VEVENT
UID:69eb6d12909f5
DTSTART:20260318T130000Z
SEQUENCE:0
TRANSP:OPAQUE
DTEND:20260318T140000Z
LOCATION:\, \, 
SUMMARY:Webinaari: Esihenkilön ja johdon rooli erityisen tuen toimeenpanos
 sa ja toteuttamisessa | Jamk
CLASS:PUBLIC
DESCRIPTION:Oppimisen tuen uudistukset edellyttävät muutoksen johtamista.
  Kohti inklusiivista ammatillista koulutusta -webinaarisarjan 8. webinaari
  tarkastelee oppimisen tuen johtamista ja inklusiivisen ammatillisen koulu
 tuksen kehittämistä johdon näkökulmasta. 
DTSTAMP:20260424T131602Z
END:VEVENT
END:VCALENDAR