BEGIN:VCALENDAR
VERSION:2.0
PRODID:www.jamk.fi
BEGIN:VEVENT
UID:69ecfc4c9a5a1
DTSTART:20260312T100000Z
SEQUENCE:0
TRANSP:OPAQUE
DTEND:20260312T110000Z
LOCATION:\, \, 
SUMMARY:Johtajuus ja innovaatiot uudessa valossa -paneelikeskustelu | Jamk
CLASS:PUBLIC
DESCRIPTION:Miten johtajuus ja innovaatiot muuttuvat\, kun tekoälystä tul
 ee yhä kiinteämpi osa yritysten toimintaa? Tähän kysymykseen pureuduta
 an Johtajuus ja innovaatiot uudessa valossa -paneelikeskustelussa 12.3.202
 6!
DTSTAMP:20260425T173924Z
END:VEVENT
END:VCALENDAR