BEGIN:VCALENDAR
VERSION:2.0
PRODID:www.jamk.fi
BEGIN:VEVENT
UID:69e81ce71d4c8
DTSTART:20260219T100000Z
SEQUENCE:0
TRANSP:OPAQUE
DTEND:20260219T140000Z
LOCATION:Survontie 9\, 40500\, Jyväskylä
SUMMARY:Tuhkan tie laitokselta metsään | Jamk
CLASS:PUBLIC
DESCRIPTION:Tapahtumassa kuullaan asiantuntijoiden puheenvuoroja tuhkan hy
 ötykäytöstä metsän lannoitteena sekä tuhkan jalostusmahdollisuuksist
 a. Lopuksi mahdollisuus tutustua tuhkan käsittelyyn Jyväskylän yliopist
 on kemian laitoksen laboratoriotiloissa.
DTSTAMP:20260422T005711Z
END:VEVENT
END:VCALENDAR