BEGIN:VCALENDAR
VERSION:2.0
PRODID:www.jamk.fi
BEGIN:VEVENT
UID:69e5798ee2a5e
DTSTART:20260219T063000Z
SEQUENCE:0
TRANSP:OPAQUE
DTEND:20260219T080000Z
LOCATION:Jamk\, Rajakatu 35\, 40200\, JYVÄSKYLÄ
SUMMARY:Monimuotoisuudella menestykseen: Miksi emme pääse eroon rasismist
 a? | Jamk
CLASS:PUBLIC
DESCRIPTION:19.2.2026 Väitöskirjatutkija Sanna Ryynänen Jyväskylän yli
 opistosta avaa rasismin historiallista syntyä ja vaikutuksia nykyajattelu
 un havahduttavassa esityksessään. Tervetuloa keskustelemaan paikan pää
 lle tai etänä.
DTSTAMP:20260420T005542Z
END:VEVENT
END:VCALENDAR