BEGIN:VCALENDAR
VERSION:2.0
PRODID:www.jamk.fi
BEGIN:VEVENT
UID:69e6cc8a63ed8
DTSTART:20251113T110000Z
SEQUENCE:0
TRANSP:OPAQUE
DTEND:20251113T140000Z
LOCATION:Tertan kahvila ja puoti\, 41330\, Vihtavuori
SUMMARY:Maaseudun yritysten kiertotalouden yhteiskehittämisen tilaisuus 13
 .11.2025 | Jamk
CLASS:PUBLIC
DESCRIPTION:Oletko keskisuomalainen yrittäjä ruokasektorilta tai muilta j
 alostavilta aloilta\, joka käyttää\, etsii tai tarjoaa uudelleen hyödy
 nnettäviä raaka-aineita tai tuotantolaitteita? Tämä tilaisuus on juuri
  sinulle! 
DTSTAMP:20260421T010202Z
END:VEVENT
END:VCALENDAR