BEGIN:VCALENDAR
VERSION:2.0
PRODID:www.jamk.fi
BEGIN:VEVENT
UID:69e975db5e069
DTSTART:20251105T040000Z
SEQUENCE:0
TRANSP:OPAQUE
DTEND:20251105T180000Z
LOCATION:Kampusranta 11\, 60320\, Seinäjoki
SUMMARY:FinFoodNet – ruokavientiyrittäjien vierailu Seinäjoelle 5.11.20
 25 | Jamk
CLASS:PUBLIC
DESCRIPTION:Viennin kasvuyritysten 4. yhteistapaamisessa tutkimme ja keskus
 telemme\, millainen Suomen ruokavientibrändin ja -maakuvan tulisi olla\, 
 jotta se parhaiten tukisi elintarvikkeiden kansainvälistä myyntiä ja ma
 rkkinointia. Ilmoittaudu 28.10. mennessä!
DTSTAMP:20260423T012859Z
END:VEVENT
END:VCALENDAR