BEGIN:VCALENDAR
VERSION:2.0
PRODID:www.jamk.fi
BEGIN:VEVENT
UID:69e755b263dff
DTSTART:20251021T110000Z
SEQUENCE:0
TRANSP:OPAQUE
DTEND:20251021T120000Z
LOCATION:\, \, 
SUMMARY:Webinaari: Practices to overcome learning losses | Jamk
CLASS:PUBLIC
DESCRIPTION:Webinaarisarjan ensimmäisessä osassa asiantuntijana professor
 i Oksana Kovtun\, Hryhorii Skovoroda University in Pereiaslav. 
DTSTAMP:20260421T104714Z
END:VEVENT
END:VCALENDAR