BEGIN:VCALENDAR
VERSION:2.0
PRODID:www.jamk.fi
BEGIN:VEVENT
UID:69e7ae8f23c19
DTSTART:20250903T060000Z
SEQUENCE:0
TRANSP:OPAQUE
DTEND:20250903T130000Z
LOCATION:Keskussairaalantie 4\, 40600\, Jyväskylä
SUMMARY:Likesin standi Liikuntatieteen päivillä | Jamk
CLASS:PUBLIC
DESCRIPTION:Likes on mukana Liikuntatieteen päivillä 3.-4.9.2025 Jyväsky
 lässä. Tule tutustumaan Likesin tutkijoihin\, asiantuntijoihin ja tutkim
 us- ja kehittämishankkeisiin standillemme.
DTSTAMP:20260421T170623Z
END:VEVENT
BEGIN:VEVENT
UID:69e7ae8f23c3e
DTSTART:20250904T060000Z
SEQUENCE:0
TRANSP:OPAQUE
DTEND:20250904T130000Z
LOCATION:Keskussairaalantie 4\, 40600\, Jyväskylä
SUMMARY:Likesin standi Liikuntatieteen päivillä | Jamk
CLASS:PUBLIC
DESCRIPTION:Likes on mukana Liikuntatieteen päivillä 3.-4.9.2025 Jyväsky
 lässä. Tule tutustumaan Likesin tutkijoihin\, asiantuntijoihin ja tutkim
 us- ja kehittämishankkeisiin standillemme.
DTSTAMP:20260421T170623Z
END:VEVENT
END:VCALENDAR