BEGIN:VCALENDAR
VERSION:2.0
PRODID:www.jamk.fi
BEGIN:VEVENT
UID:69e977a836400
DTSTART:20250611T060000Z
SEQUENCE:0
TRANSP:OPAQUE
DTEND:20250611T061500Z
LOCATION:\, \, 
SUMMARY:VetyVartti: Vetyhauraus | Jamk
CLASS:PUBLIC
DESCRIPTION:Ennen kesätaukoa VetyVartissa käsitellään vetyhaurautta. 
DTSTAMP:20260423T013640Z
END:VEVENT
END:VCALENDAR