BEGIN:VCALENDAR
VERSION:2.0
PRODID:www.jamk.fi
BEGIN:VEVENT
UID:69ea5588ce57f
DTSTART:20251009T080000Z
SEQUENCE:0
TRANSP:OPAQUE
DTEND:20251009T130000Z
LOCATION:Hotelli Alexandra\, 40100\, Jyväskylä
SUMMARY:Kutsuvierastilaisuus: digitaalinen kuntoutus tutuksi | Jamk
CLASS:PUBLIC
DESCRIPTION:Digitaalinen kuntoutus tulevaisuuden palveluissa – miten voim
 me yhdessä verkostona edistää teeman tutkimusta ja kehittämistä?  
DTSTAMP:20260423T172320Z
END:VEVENT
END:VCALENDAR