BEGIN:VCALENDAR
VERSION:2.0
PRODID:www.jamk.fi
BEGIN:VEVENT
UID:69e94c42ef05b
DTSTART:20250321T063000Z
SEQUENCE:0
TRANSP:OPAQUE
DTEND:20250321T090000Z
LOCATION:Piippukatu 2\, 40100\, Jyväskylä
SUMMARY:Työ kevyemmäksi ja turvallisemmaksi - Raksa 2.0 aloitusseminaari 
 | Jamk
CLASS:PUBLIC
DESCRIPTION:Työ kevyemmäksi ja turvallisemmaksi - Raksa 2.0 -aloitussemin
 aari järjestetään 21.3.2025 klo 8.30 - 11.00 Jamkin Dynamo-kampuksella.
  
DTSTAMP:20260422T223130Z
END:VEVENT
END:VCALENDAR