BEGIN:VCALENDAR
VERSION:2.0
PRODID:www.jamk.fi
BEGIN:VEVENT
UID:69e9b72c97e1d
DTSTART:20241212T070000Z
SEQUENCE:0
TRANSP:OPAQUE
DTEND:20241212T090000Z
LOCATION:\, \, 
SUMMARY:Laske ja ymmärrä maatalousmuovien päästöjä sovelluksen avulla
  | Jamk
CLASS:PUBLIC
DESCRIPTION:Alkutuottajien avuksi on kehitetty eMuovi laskenta- ja arvioint
 ityökalu\, jolla voidaan laskea maatalousmuovien hiilidioksidipäästöt.
  Tule kuulolle eMuovi-hankkeen päätöswebinaariin\, jossa kerromme alust
 an mahdollisuuksista ja käyttöönotosta lisää!
DTSTAMP:20260423T060740Z
END:VEVENT
END:VCALENDAR