BEGIN:VCALENDAR
VERSION:2.0
PRODID:www.jamk.fi
BEGIN:VEVENT
UID:69e5c5477a8de
DTSTART:20241112T080000Z
SEQUENCE:0
TRANSP:OPAQUE
DTEND:20241112T093000Z
LOCATION:\, \, 
SUMMARY:Kuntatoimijana Kiertokylässä - Konkreettisia tekoja kaikilla toim
 ialoilla | Jamk
CLASS:PUBLIC
DESCRIPTION:Miksi kiertotalousmuutos koskettaa kaikkia\, miten kiertotalous
  vahvistaa kuntien elinvoimaa\, ja mitä juuri sinä voisit tehdä omassa 
 roolissasi? 
DTSTAMP:20260420T061847Z
END:VEVENT
END:VCALENDAR