BEGIN:VCALENDAR
VERSION:2.0
PRODID:www.jamk.fi
BEGIN:VEVENT
UID:69e7b5e962258
DTSTART:20241114T063000Z
SEQUENCE:0
TRANSP:OPAQUE
DTEND:20241114T100000Z
LOCATION:Rajakatu 35\, 40200\, Jyväskylä
SUMMARY:Tested by Jamk - vastuullisuutta ja uusia teknologioita teollisuute
 en 14.11.2024 | Jamk
CLASS:PUBLIC
DESCRIPTION:Onko mielessäsi idea\, kysymys tai haaste\, joka liittyy yrity
 ksesi tuotekehitykseen\, laatuun\, toimintavarmuuteen\, tuottavuuteen\, te
 hokkuuteen tai uusien menetelmien testaukseen? Haasta meidät ja tuo kysym
 yksesi Jamkin asiantuntijoiden ruodittavaksi!
DTSTAMP:20260421T173745Z
END:VEVENT
END:VCALENDAR