BEGIN:VCALENDAR
VERSION:2.0
PRODID:www.jamk.fi
BEGIN:VEVENT
UID:69e73364220ca
DTSTART:20240610T060000Z
SEQUENCE:0
TRANSP:OPAQUE
DTEND:20240610T110000Z
LOCATION:Piippukatu 2\, 40100\, Jyväskylä
SUMMARY:Avoin työpaja: Palvelumuotoilua liikunta- ja urheilualan yrityksil
 le | Jamk
CLASS:PUBLIC
DESCRIPTION:Onko sinulla tuote- tai palveluidea\, tai vaihtoehtoisesti jo o
 lemassa oleva palvelutuote\, jonka käyttäjäkeskeisyyttä haluat kehitt
 ää? Tunnistatko asiakkaan palvelupolun? Mistä asiakkaat löytävät tuo
 tteesi tai palvelusi?
DTSTAMP:20260421T082052Z
END:VEVENT
END:VCALENDAR