BEGIN:VCALENDAR
VERSION:2.0
PRODID:www.jamk.fi
BEGIN:VEVENT
UID:69e6f9167f03c
DTSTART:20240507T100000Z
SEQUENCE:0
TRANSP:OPAQUE
DTEND:20240507T104500Z
LOCATION:Suomalainen musiikkikampus\, Hannikaissali\, 40700\, Jyväskylä
SUMMARY:Klassista sun päivääsi! -konsertti Suomalaisella musiikkikampuks
 ella | Jamk
CLASS:PUBLIC
DESCRIPTION:Klassista sun päivääsi! -konserttisarjassa kuullaan monipuol
 isesti klassista musiikkia sekä Jyväskylän ammattikorkeakoulun että Gr
 adian musiikinopiskelijoiden esittämänä.
DTSTAMP:20260421T041206Z
END:VEVENT
END:VCALENDAR