BEGIN:VCALENDAR
VERSION:2.0
PRODID:www.jamk.fi
BEGIN:VEVENT
UID:69e783533fc9d
DTSTART:20231122T070000Z
SEQUENCE:0
TRANSP:OPAQUE
DTEND:20231122T093000Z
LOCATION:\, \, 
SUMMARY:Digikyvykkyyden vauhdittaminen yrityksissä ja yhteisöissä | Jamk
CLASS:PUBLIC
DESCRIPTION:DiyKS – Digiosaavat yritykset ja yhteisöt Keski-Suomessa -pr
 ojektin päätöswebinaari. Projektissa on edistetty maaseudun mikro- ja p
 k-yrittäjien sekä yhdistysten ja erilaisten yhteisöjen digiosaamista.
DTSTAMP:20260421T140155Z
END:VEVENT
END:VCALENDAR