BEGIN:VCALENDAR
VERSION:2.0
PRODID:www.jamk.fi
BEGIN:VEVENT
UID:69e9f101f2b8d
DTSTART:20230824T060000Z
SEQUENCE:0
TRANSP:OPAQUE
DTEND:20230824T120000Z
LOCATION:Tuumalantie 17\, 43130\, Tarvaala
SUMMARY:Osaava Farmari ja Älyagri: toimijatapaaminen | Jamk
CLASS:PUBLIC
DESCRIPTION:Osaava Farmari ja Älyagri-hankkeiden toimijatapaamisessa tutus
 tutaan Jamk Biotalousinstituuttiin\, pohditaan hankkeiden loppurutistusta 
 ja vieraillaan Äänekosken Biotuotetehtaalla sekä Valtran tehtaalla.
DTSTAMP:20260423T101425Z
END:VEVENT
BEGIN:VEVENT
UID:69e9f101f2ba6
DTSTART:20230825T060000Z
SEQUENCE:0
TRANSP:OPAQUE
DTEND:20230825T120000Z
LOCATION:Tuumalantie 17\, 43130\, Tarvaala
SUMMARY:Osaava Farmari ja Älyagri: toimijatapaaminen | Jamk
CLASS:PUBLIC
DESCRIPTION:Osaava Farmari ja Älyagri-hankkeiden toimijatapaamisessa tutus
 tutaan Jamk Biotalousinstituuttiin\, pohditaan hankkeiden loppurutistusta 
 ja vieraillaan Äänekosken Biotuotetehtaalla sekä Valtran tehtaalla.
DTSTAMP:20260423T101425Z
END:VEVENT
END:VCALENDAR