BEGIN:VCALENDAR
VERSION:2.0
PRODID:www.jamk.fi
BEGIN:VEVENT
UID:69e4ef8b2c00c
DTSTART:20230913T060000Z
SEQUENCE:0
TRANSP:OPAQUE
DTEND:20230913T083000Z
LOCATION:\, \, 
SUMMARY:Työkuormituksen vähentäminen yläraajaeksoskeletoneilla | Jamk
CLASS:PUBLIC
DESCRIPTION:Tule kuulemaan kuinka eksoskeletoneilla voidaan vähentää ty
 ökuormitusta\, kun työskennellään kädet koholla. Tilaisuus on ArmExo-
 projektin päätösseminaari.
DTSTAMP:20260419T150651Z
END:VEVENT
END:VCALENDAR