BEGIN:VCALENDAR
VERSION:2.0
PRODID:www.jamk.fi
BEGIN:VEVENT
UID:69e76959859c1
DTSTART:20230904T140000Z
SEQUENCE:0
TRANSP:OPAQUE
DTEND:20230904T163000Z
LOCATION:\, \, 
SUMMARY:Syyskuu digittää! | Jamk
CLASS:PUBLIC
DESCRIPTION:Tervetuloa tutustumaan tekoälyn ja somevideoiden saloihin käy
 tännönläheisissä ja maksuttomissa työpajoissa!
DTSTAMP:20260421T121105Z
END:VEVENT
BEGIN:VEVENT
UID:69e76959859da
DTSTART:20230905T140000Z
SEQUENCE:0
TRANSP:OPAQUE
DTEND:20230905T163000Z
LOCATION:\, \, 
SUMMARY:Syyskuu digittää! | Jamk
CLASS:PUBLIC
DESCRIPTION:Tervetuloa tutustumaan tekoälyn ja somevideoiden saloihin käy
 tännönläheisissä ja maksuttomissa työpajoissa!
DTSTAMP:20260421T121105Z
END:VEVENT
BEGIN:VEVENT
UID:69e76959859e1
DTSTART:20230906T140000Z
SEQUENCE:0
TRANSP:OPAQUE
DTEND:20230906T163000Z
LOCATION:\, \, 
SUMMARY:Syyskuu digittää! | Jamk
CLASS:PUBLIC
DESCRIPTION:Tervetuloa tutustumaan tekoälyn ja somevideoiden saloihin käy
 tännönläheisissä ja maksuttomissa työpajoissa!
DTSTAMP:20260421T121105Z
END:VEVENT
BEGIN:VEVENT
UID:69e76959859e6
DTSTART:20230907T140000Z
SEQUENCE:0
TRANSP:OPAQUE
DTEND:20230907T163000Z
LOCATION:\, \, 
SUMMARY:Syyskuu digittää! | Jamk
CLASS:PUBLIC
DESCRIPTION:Tervetuloa tutustumaan tekoälyn ja somevideoiden saloihin käy
 tännönläheisissä ja maksuttomissa työpajoissa!
DTSTAMP:20260421T121105Z
END:VEVENT
BEGIN:VEVENT
UID:69e76959859ff
DTSTART:20230908T140000Z
SEQUENCE:0
TRANSP:OPAQUE
DTEND:20230908T163000Z
LOCATION:\, \, 
SUMMARY:Syyskuu digittää! | Jamk
CLASS:PUBLIC
DESCRIPTION:Tervetuloa tutustumaan tekoälyn ja somevideoiden saloihin käy
 tännönläheisissä ja maksuttomissa työpajoissa!
DTSTAMP:20260421T121105Z
END:VEVENT
BEGIN:VEVENT
UID:69e7695985a0d
DTSTART:20230909T140000Z
SEQUENCE:0
TRANSP:OPAQUE
DTEND:20230909T163000Z
LOCATION:\, \, 
SUMMARY:Syyskuu digittää! | Jamk
CLASS:PUBLIC
DESCRIPTION:Tervetuloa tutustumaan tekoälyn ja somevideoiden saloihin käy
 tännönläheisissä ja maksuttomissa työpajoissa!
DTSTAMP:20260421T121105Z
END:VEVENT
BEGIN:VEVENT
UID:69e7695985a25
DTSTART:20230910T140000Z
SEQUENCE:0
TRANSP:OPAQUE
DTEND:20230910T163000Z
LOCATION:\, \, 
SUMMARY:Syyskuu digittää! | Jamk
CLASS:PUBLIC
DESCRIPTION:Tervetuloa tutustumaan tekoälyn ja somevideoiden saloihin käy
 tännönläheisissä ja maksuttomissa työpajoissa!
DTSTAMP:20260421T121105Z
END:VEVENT
BEGIN:VEVENT
UID:69e7695985a2b
DTSTART:20230911T140000Z
SEQUENCE:0
TRANSP:OPAQUE
DTEND:20230911T163000Z
LOCATION:\, \, 
SUMMARY:Syyskuu digittää! | Jamk
CLASS:PUBLIC
DESCRIPTION:Tervetuloa tutustumaan tekoälyn ja somevideoiden saloihin käy
 tännönläheisissä ja maksuttomissa työpajoissa!
DTSTAMP:20260421T121105Z
END:VEVENT
BEGIN:VEVENT
UID:69e7695985a30
DTSTART:20230912T140000Z
SEQUENCE:0
TRANSP:OPAQUE
DTEND:20230912T163000Z
LOCATION:\, \, 
SUMMARY:Syyskuu digittää! | Jamk
CLASS:PUBLIC
DESCRIPTION:Tervetuloa tutustumaan tekoälyn ja somevideoiden saloihin käy
 tännönläheisissä ja maksuttomissa työpajoissa!
DTSTAMP:20260421T121105Z
END:VEVENT
BEGIN:VEVENT
UID:69e7695985a37
DTSTART:20230913T140000Z
SEQUENCE:0
TRANSP:OPAQUE
DTEND:20230913T163000Z
LOCATION:\, \, 
SUMMARY:Syyskuu digittää! | Jamk
CLASS:PUBLIC
DESCRIPTION:Tervetuloa tutustumaan tekoälyn ja somevideoiden saloihin käy
 tännönläheisissä ja maksuttomissa työpajoissa!
DTSTAMP:20260421T121105Z
END:VEVENT
BEGIN:VEVENT
UID:69e7695985a45
DTSTART:20230914T140000Z
SEQUENCE:0
TRANSP:OPAQUE
DTEND:20230914T163000Z
LOCATION:\, \, 
SUMMARY:Syyskuu digittää! | Jamk
CLASS:PUBLIC
DESCRIPTION:Tervetuloa tutustumaan tekoälyn ja somevideoiden saloihin käy
 tännönläheisissä ja maksuttomissa työpajoissa!
DTSTAMP:20260421T121105Z
END:VEVENT
BEGIN:VEVENT
UID:69e7695985a5d
DTSTART:20230915T140000Z
SEQUENCE:0
TRANSP:OPAQUE
DTEND:20230915T163000Z
LOCATION:\, \, 
SUMMARY:Syyskuu digittää! | Jamk
CLASS:PUBLIC
DESCRIPTION:Tervetuloa tutustumaan tekoälyn ja somevideoiden saloihin käy
 tännönläheisissä ja maksuttomissa työpajoissa!
DTSTAMP:20260421T121105Z
END:VEVENT
BEGIN:VEVENT
UID:69e7695985a63
DTSTART:20230916T140000Z
SEQUENCE:0
TRANSP:OPAQUE
DTEND:20230916T163000Z
LOCATION:\, \, 
SUMMARY:Syyskuu digittää! | Jamk
CLASS:PUBLIC
DESCRIPTION:Tervetuloa tutustumaan tekoälyn ja somevideoiden saloihin käy
 tännönläheisissä ja maksuttomissa työpajoissa!
DTSTAMP:20260421T121105Z
END:VEVENT
BEGIN:VEVENT
UID:69e7695985aa7
DTSTART:20230917T140000Z
SEQUENCE:0
TRANSP:OPAQUE
DTEND:20230917T163000Z
LOCATION:\, \, 
SUMMARY:Syyskuu digittää! | Jamk
CLASS:PUBLIC
DESCRIPTION:Tervetuloa tutustumaan tekoälyn ja somevideoiden saloihin käy
 tännönläheisissä ja maksuttomissa työpajoissa!
DTSTAMP:20260421T121105Z
END:VEVENT
BEGIN:VEVENT
UID:69e7695985aaf
DTSTART:20230918T140000Z
SEQUENCE:0
TRANSP:OPAQUE
DTEND:20230918T163000Z
LOCATION:\, \, 
SUMMARY:Syyskuu digittää! | Jamk
CLASS:PUBLIC
DESCRIPTION:Tervetuloa tutustumaan tekoälyn ja somevideoiden saloihin käy
 tännönläheisissä ja maksuttomissa työpajoissa!
DTSTAMP:20260421T121105Z
END:VEVENT
END:VCALENDAR