BEGIN:VCALENDAR
VERSION:2.0
PRODID:www.jamk.fi
BEGIN:VEVENT
UID:69e733783cdfb
DTSTART:20230919T110000Z
SEQUENCE:0
TRANSP:OPAQUE
DTEND:20230919T150000Z
LOCATION:Matarankatu 2\, 40100\, Jyväskylä
SUMMARY:Digiosaamisen edelläkävijät | Jamk
CLASS:PUBLIC
DESCRIPTION:Digitaaliset taidot ovat nykypäivän yritysmaailmassa välttä
 mätömiä. Tapahtumassa kurkistamme siihen\, mitä digiosaamisen edelläk
 ävijät tekevät ja millaisia taitoja meistä jokaisen kannattaa kehittä
 ä. 
DTSTAMP:20260421T082112Z
END:VEVENT
END:VCALENDAR