BEGIN:VCALENDAR
VERSION:2.0
PRODID:www.jamk.fi
BEGIN:VEVENT
UID:69e98665814ed
DTSTART:20230608T090000Z
SEQUENCE:0
TRANSP:OPAQUE
DTEND:20230608T120000Z
LOCATION:\, \, 
SUMMARY:Ammatillisen opettajankoulutuksen orientaatioiltapäivä | Jamk
CLASS:PUBLIC
DESCRIPTION:Ammatillisen opettajankoulutuksen orientaatioiltapäivään ova
 t tervetulleita kaikki ammatillisen opettajankoulutukseen valitut\, uudet 
 opiskelijat! Iltapäivässä kuulet opinnoista ja tapaat alueryhmäsi. Ter
 vetuloa! 
DTSTAMP:20260423T023933Z
END:VEVENT
END:VCALENDAR