BEGIN:VCALENDAR
VERSION:2.0
PRODID:www.jamk.fi
BEGIN:VEVENT
UID:69ea458e2f00e
DTSTART:20230512T120000Z
SEQUENCE:0
TRANSP:OPAQUE
DTEND:20230512T140000Z
LOCATION:Hannikaissali\, Suomalainen musiikkikampus (Pitkäkatu 18 - 22)\, 
 40700\, Jyväskylä
SUMMARY:Kamarijamit Suomalaisen musiikkikampuksen Hannikaissalissa | Jamk
CLASS:PUBLIC
DESCRIPTION:Suomalaisen musiikkikampuksen Kamarijameissa toiminnan ytimess
 ä on muusikon käytännön taitojen kehittäminen. Tämän lukuvuoden tee
 moja ovat mm. improvisaatio\, improvisaation pedagogiset menetelmät ja mu
 usikon esiintymisvalmennus.
DTSTAMP:20260423T161510Z
END:VEVENT
END:VCALENDAR