BEGIN:VCALENDAR
VERSION:2.0
PRODID:www.jamk.fi
BEGIN:VEVENT
UID:69e71eab9b760
DTSTART:20230602T110000Z
SEQUENCE:0
TRANSP:OPAQUE
DTEND:20230602T130000Z
LOCATION:Rajakatu 35\, 40100\, Jyväskylä
SUMMARY:Uudistuvan teollisuuden instituutin valmistujaisjuhla opiskelijoill
 e | Jamk
CLASS:PUBLIC
DESCRIPTION:Lämpimästi tervetuloa AMK-tutkintoon valmistuvien valmistujai
 sjuhlaan perjantaina 2.6.2023 klo 14.00 alkaen Rajakadun kampukselle.
DTSTAMP:20260421T065227Z
END:VEVENT
END:VCALENDAR