BEGIN:VCALENDAR
VERSION:2.0
PRODID:www.jamk.fi
BEGIN:VEVENT
UID:69e7124b9f84b
DTSTART:20230403T143000Z
SEQUENCE:0
TRANSP:OPAQUE
DTEND:20230403T180000Z
LOCATION:Siltasali\, Suomalainen musiikkikampus (Pitkäkatu 18 - 22)\, 4070
 0\, Jyväskylä
SUMMARY:Loisto-konsertit: Siiri Torvinen – The Silky Groove\, Meeri Sarja
 sto – I am changing | Jamk
CLASS:PUBLIC
DESCRIPTION:Loisto on Jamkin ja Gradia Jyväskylän musiikin koulutuksen se
 kä Gradia Jyväskylän media-alaa opiskelevien yhteinen konserttisarja. K
 onserttisarja järjestetään keväisin ja syksyisin.
DTSTAMP:20260421T055939Z
END:VEVENT
END:VCALENDAR