BEGIN:VCALENDAR
VERSION:2.0
PRODID:www.jamk.fi
BEGIN:VEVENT
UID:69ea5ce07f141
DTSTART:20230427T060000Z
SEQUENCE:0
TRANSP:OPAQUE
DTEND:20230427T090000Z
LOCATION:\, \, 
SUMMARY:Tiedon alkulähteillä – Mistä dataa tutkimus- ja kehityskäytt
 öön?  | Jamk
CLASS:PUBLIC
DESCRIPTION:Jamk – Kajaani HYTKI-webinaari 27.4.2023 klo 9-11.
DTSTAMP:20260423T175440Z
END:VEVENT
END:VCALENDAR