BEGIN:VCALENDAR
VERSION:2.0
PRODID:www.jamk.fi
BEGIN:VEVENT
UID:69ea2090baf04
DTSTART:20230217T100000Z
SEQUENCE:0
TRANSP:OPAQUE
DTEND:20230217T130000Z
LOCATION:\, \, 
SUMMARY:Opiskelijan moniammatillinen ohjaus - erityistä tukea\, pedagogiik
 kaa\, uraohjausta vai opiskeluhuoltoa? | Jamk
CLASS:PUBLIC
DESCRIPTION:SamPo-projekti järjestää 17.2. työpajan opiskelijan moniamm
 atillisesta ohjauksesta.
DTSTAMP:20260423T133720Z
END:VEVENT
END:VCALENDAR