BEGIN:VCALENDAR
VERSION:2.0
PRODID:www.jamk.fi
BEGIN:VEVENT
UID:69ea80c2a1657
DTSTART:20230502T120000Z
SEQUENCE:0
TRANSP:OPAQUE
DTEND:20230502T130000Z
LOCATION:\, \, 
SUMMARY:SamPo-webinaarisarja: Opiskelijan osallisuus moniammatillisessa yht
 eistyössä - tutkimus SamPo-projektista | Jamk
CLASS:PUBLIC
DESCRIPTION:SamPo-projekti toteuttaa kevään 2023 aikana kahdeksanosaisen 
 webinaarisarjan. 
DTSTAMP:20260423T202746Z
END:VEVENT
END:VCALENDAR