BEGIN:VCALENDAR
VERSION:2.0
PRODID:www.jamk.fi
BEGIN:VEVENT
UID:69ea8fd270136
DTSTART:20230418T050000Z
SEQUENCE:0
TRANSP:OPAQUE
DTEND:20230418T060000Z
LOCATION:\, \, 
SUMMARY:SamPo-webinaarisarja: Työllistymisen tuki moniammatillisena yhteis
 työnä | Jamk
CLASS:PUBLIC
DESCRIPTION:SamPo-projekti toteuttaa kevään 2023 aikana kahdeksanosaisen 
 webinaarisarjan. 
DTSTAMP:20260423T213202Z
END:VEVENT
END:VCALENDAR