BEGIN:VCALENDAR
VERSION:2.0
PRODID:www.jamk.fi
BEGIN:VEVENT
UID:69ea7b33cb869
DTSTART:20230403T120000Z
SEQUENCE:0
TRANSP:OPAQUE
DTEND:20230403T130000Z
LOCATION:\, \, 
SUMMARY:SamPo-webinaarisarja: Työvälineitä opiskelijan osallisuuden tuke
 miseen | Jamk
CLASS:PUBLIC
DESCRIPTION:SamPo-projekti toteuttaa kevään 2023 aikana kahdeksanosaisen 
 webinaarisarjan.
DTSTAMP:20260423T200403Z
END:VEVENT
END:VCALENDAR