BEGIN:VCALENDAR
VERSION:2.0
PRODID:www.jamk.fi
BEGIN:VEVENT
UID:69ea7deb22bff
DTSTART:20230328T120000Z
SEQUENCE:0
TRANSP:OPAQUE
DTEND:20230328T130000Z
LOCATION:\, \, 
SUMMARY:SamPo-webinaarisarja: Turvallisen yhdessä ohjauksen rakentuminen
  | Jamk
CLASS:PUBLIC
DESCRIPTION:SamPo-projekti toteuttaa kevään 2023 aikana kahdeksanosaisen 
 webinaarisarjan.
DTSTAMP:20260423T201539Z
END:VEVENT
END:VCALENDAR