BEGIN:VCALENDAR
VERSION:2.0
PRODID:www.jamk.fi
BEGIN:VEVENT
UID:69ea53a4d2b09
DTSTART:20230116T140000Z
SEQUENCE:0
TRANSP:OPAQUE
DTEND:20230116T170000Z
LOCATION:Keskussairaalantie 4\, 40600\, Jyväskylä
SUMMARY:Kehon kuntoindeksi -mittauksia Liikunnalla | Jamk
CLASS:PUBLIC
DESCRIPTION:Aktiivinen ja hyvinvoiva korkeakoulu -hanke tarjoaa maksuttomia
  Kehon kuntoindeksi -mittauksia non-stoppina osana uMoven avointen ovien v
 iikkoa Liikunnalla.
DTSTAMP:20260423T171516Z
END:VEVENT
END:VCALENDAR