BEGIN:VCALENDAR
VERSION:2.0
PRODID:www.jamk.fi
BEGIN:VEVENT
UID:69ea5438bc6ab
DTSTART:20230119T080000Z
SEQUENCE:0
TRANSP:OPAQUE
DTEND:20230119T084500Z
LOCATION:\, \, 
SUMMARY:Aktiivinen ja hyvinvoiva korkeakoulu -webinaari: Kyykyllä opiskelu
 kykyä! | Jamk
CLASS:PUBLIC
DESCRIPTION:Oletko halunnut aloittaa kyykkäämisen kotona tai kuntosalilla
 \, mutta et tiedä mistä lähteä liikkeelle? Tervetuloa kuulemaan kyykyn
  hyödyistä\, kyykyistä sekä tietysti myös kyykkäämään.
DTSTAMP:20260423T171744Z
END:VEVENT
END:VCALENDAR