BEGIN:VCALENDAR
VERSION:2.0
PRODID:www.jamk.fi
BEGIN:VEVENT
UID:69eba75cd581d
DTSTART:20230329T060000Z
SEQUENCE:0
TRANSP:OPAQUE
DTEND:20230329T110000Z
LOCATION:Piippukatu 2\, 40100\, Jyväskylä
SUMMARY:Elintarvikeketjun kyberturvallisuuden pilottiharjoituksen vierailup
 äivä | Jamk
CLASS:PUBLIC
DESCRIPTION:Toivotamme elintarviketuotannon\, -kaupan ja -jakelun kyberharj
 oituksista kiinnostuneet yritykset ja organisaatiot lämpimästi tervetull
 eiksi vierailupäivään!
DTSTAMP:20260424T172444Z
END:VEVENT
END:VCALENDAR