BEGIN:VCALENDAR
VERSION:2.0
PRODID:www.jamk.fi
BEGIN:VEVENT
UID:69eba6f39e6d9
DTSTART:20230328T050000Z
SEQUENCE:0
TRANSP:OPAQUE
DTEND:20230328T130000Z
LOCATION:\, \, 
SUMMARY:Elintarvikeketjun kyberturvallisuuden pilottiharjoitus | Jamk
CLASS:PUBLIC
DESCRIPTION:Suomalaiset elintarviketuotannon ja -jakelun toimijat kehittäv
 ät kyberturvallisuusvalmiutta elintarvikeketjun kyberturvallisuuden pilot
 tiharjoituksessa. 
DTSTAMP:20260424T172259Z
END:VEVENT
BEGIN:VEVENT
UID:69eba6f39e757
DTSTART:20230329T050000Z
SEQUENCE:0
TRANSP:OPAQUE
DTEND:20230329T130000Z
LOCATION:\, \, 
SUMMARY:Elintarvikeketjun kyberturvallisuuden pilottiharjoitus | Jamk
CLASS:PUBLIC
DESCRIPTION:Suomalaiset elintarviketuotannon ja -jakelun toimijat kehittäv
 ät kyberturvallisuusvalmiutta elintarvikeketjun kyberturvallisuuden pilot
 tiharjoituksessa. 
DTSTAMP:20260424T172259Z
END:VEVENT
END:VCALENDAR