BEGIN:VCALENDAR
VERSION:2.0
PRODID:www.jamk.fi
BEGIN:VEVENT
UID:69e63c0e9237c
DTSTART:20221209T120000Z
SEQUENCE:0
TRANSP:OPAQUE
DTEND:20221209T140000Z
LOCATION:Piippukatu 2\, Dynamo\, auditorio\, 40100\, Jyväskylä
SUMMARY:Sosiaali- ja terveysalan valmistujaisjuhlat  | Jamk
CLASS:PUBLIC
DESCRIPTION:Lämpimästi tervetuloa AMK- ja YAMK-tutkintoon valmistuvien va
 lmistujaisjuhlaan  perjantaina 9.12.2022 klo 14.00 alkaen
DTSTAMP:20260420T144534Z
END:VEVENT
END:VCALENDAR