BEGIN:VCALENDAR
VERSION:2.0
PRODID:www.jamk.fi
BEGIN:VEVENT
UID:69ea8178cd0ee
DTSTART:20221109T070000Z
SEQUENCE:0
TRANSP:OPAQUE
DTEND:20221109T160000Z
LOCATION:Rajakatu 35\, 40200\, Jyväskylä
SUMMARY:Pelaten duuniin! -projektin avoimet ovet ja GamePit-pelikahvilat | 
 Jamk
CLASS:PUBLIC
DESCRIPTION:Osana kansainvälistä peliviikkoa Pelaten duuniin! –projekti
  järjestää avoimet ovet GamePit Pro -tilassa 9.11. klo 9-11. Päivä ja
 tkuu GamePit Pro -pelikahvilalalla klo 16-20.
DTSTAMP:20260423T203048Z
END:VEVENT
BEGIN:VEVENT
UID:69ea8178cd108
DTSTART:20221110T070000Z
SEQUENCE:0
TRANSP:OPAQUE
DTEND:20221110T160000Z
LOCATION:Rajakatu 35\, 40200\, Jyväskylä
SUMMARY:Pelaten duuniin! -projektin avoimet ovet ja GamePit-pelikahvilat | 
 Jamk
CLASS:PUBLIC
DESCRIPTION:Osana kansainvälistä peliviikkoa Pelaten duuniin! –projekti
  järjestää avoimet ovet GamePit Pro -tilassa 9.11. klo 9-11. Päivä ja
 tkuu GamePit Pro -pelikahvilalalla klo 16-20.
DTSTAMP:20260423T203048Z
END:VEVENT
END:VCALENDAR