BEGIN:VCALENDAR
VERSION:2.0
PRODID:www.jamk.fi
BEGIN:VEVENT
UID:69e4d6e9846db
DTSTART:20261106T070000Z
SEQUENCE:0
TRANSP:OPAQUE
DTEND:20261106T120000Z
LOCATION:Rajakatu 35\, 40200\, Jyväskylä
SUMMARY:Hakijan päivä @Jamk | Jamk
CLASS:PUBLIC
DESCRIPTION:Millaista ammattikorkeakouluopiskelu on? Miten Jamkiin haetaan 
 ja milloin? Hakijan päivä antaa vastaukset! Tule mukaan tutustumaan Jamk
 in opintoihin! 
DTSTAMP:20260419T132145Z
END:VEVENT
END:VCALENDAR