BEGIN:VCALENDAR
VERSION:2.0
PRODID:www.jamk.fi
BEGIN:VEVENT
UID:69eb9d4fa8946
DTSTART:20250925T070000Z
SEQUENCE:0
TRANSP:OPAQUE
DTEND:20250925T140000Z
LOCATION:Paviljonki\, 40100\, Jyväskylä
SUMMARY:Rekry\, työelämä &amp\; koulutus -messut | Jamk
CLASS:PUBLIC
DESCRIPTION:Jamk on mukana yhteistyökumppanina ja näytteilleasettajana Re
 kry\, työelämä ja koulutus -messuilla Jyväskylän Paviljongissa 25.9. 
 yhdessä Jyväskylän kaupungin\, Jyväskylän yliopiston ja Jyväskylän 
 koulutuskuntayhtymä Gradian kanssa.
DTSTAMP:20260424T164151Z
END:VEVENT
END:VCALENDAR