BEGIN:VCALENDAR
VERSION:2.0
PRODID:www.jamk.fi
BEGIN:VEVENT
UID:69ea90e0b0217
DTSTART:20220906T100000Z
SEQUENCE:0
TRANSP:OPAQUE
DTEND:20220906T130000Z
LOCATION:\, \, 
SUMMARY:Opiskeluun kiinnittyminen -työpaja | Jamk
CLASS:PUBLIC
DESCRIPTION:SamPo-projekti järjestää Opiskeluun kiinnittyminen -työpaja
 n 6.9.
DTSTAMP:20260423T213632Z
END:VEVENT
END:VCALENDAR