BEGIN:VCALENDAR
VERSION:2.0
PRODID:www.jamk.fi
BEGIN:VEVENT
UID:69e5446e42f88
DTSTART:20220606T143000Z
SEQUENCE:0
TRANSP:OPAQUE
DTEND:20220606T153000Z
LOCATION:\, \, 
SUMMARY:Korkeakouluopintoja kotikulmillasi -info | Jamk
CLASS:PUBLIC
DESCRIPTION:Jamk ja Jyväskylän yliopisto tuovat korkeakouluopintoja Keski
 -Suomen seudulla lähelle asukkaita jälleen ensi syksynä. Mitä ja miten
 ? Sen saat selville verkossa järjestettävässä infotilaisuudessamme. Te
 rvetuloa mukaan!
DTSTAMP:20260419T210902Z
END:VEVENT
END:VCALENDAR